BEGIN:VCALENDAR
VERSION:2.0
PRODID:-//CERN//INDICO//EN
BEGIN:VEVENT
SUMMARY:pyTango Follow-up Meeting
DTSTART:20260521T130000Z
DTEND:20260521T140000Z
DTSTAMP:20260421T131300Z
UID:indico-event-564@indico.tango-controls.org
DESCRIPTION:https://indico.tango-controls.org/event/564/
URL:https://indico.tango-controls.org/event/564/
END:VEVENT
END:VCALENDAR
