BEGIN:VCALENDAR
VERSION:2.0
PRODID:-//CERN//INDICO//EN
BEGIN:VEVENT
SUMMARY:pyTango Follow-up Meeting
DTSTART:20260507T130000Z
DTEND:20260507T140000Z
DTSTAMP:20260421T144000Z
UID:indico-event-574@indico.tango-controls.org
DESCRIPTION:https://indico.tango-controls.org/event/574/
URL:https://indico.tango-controls.org/event/574/
END:VEVENT
END:VCALENDAR
