BEGIN:VCALENDAR
VERSION:2.0
PRODID:-//CERN//INDICO//EN
BEGIN:VEVENT
SUMMARY:HDB++ meeting
DTSTART:20260429T080000Z
DTEND:20260429T090000Z
DTSTAMP:20260419T192800Z
UID:indico-event-753@indico.tango-controls.org
DESCRIPTION:https://indico.tango-controls.org/event/753/
LOCATION:https://esrf.zoom.us/j/93141694731?pwd=elJTZDd6OUlaWEsrNGhBdkMyMz
 hZdz09
URL:https://indico.tango-controls.org/event/753/
END:VEVENT
END:VCALENDAR
